BEGIN:VCALENDAR
VERSION:2.0
PRODID:-//U of G News - ECPv6.15.11//NONSGML v1.0//EN
CALSCALE:GREGORIAN
METHOD:PUBLISH
X-WR-CALNAME:U of G News
X-ORIGINAL-URL:https://guides.uoguelph.ca
X-WR-CALDESC:Events for U of G News
REFRESH-INTERVAL;VALUE=DURATION:PT1H
X-Robots-Tag:noindex
X-PUBLISHED-TTL:PT1H
BEGIN:VTIMEZONE
TZID:America/Toronto
BEGIN:DAYLIGHT
TZOFFSETFROM:-0500
TZOFFSETTO:-0400
TZNAME:EDT
DTSTART:20140309T070000
END:DAYLIGHT
BEGIN:STANDARD
TZOFFSETFROM:-0400
TZOFFSETTO:-0500
TZNAME:EST
DTSTART:20141102T060000
END:STANDARD
BEGIN:DAYLIGHT
TZOFFSETFROM:-0500
TZOFFSETTO:-0400
TZNAME:EDT
DTSTART:20150308T070000
END:DAYLIGHT
BEGIN:STANDARD
TZOFFSETFROM:-0400
TZOFFSETTO:-0500
TZNAME:EST
DTSTART:20151101T060000
END:STANDARD
BEGIN:DAYLIGHT
TZOFFSETFROM:-0500
TZOFFSETTO:-0400
TZNAME:EDT
DTSTART:20160313T070000
END:DAYLIGHT
BEGIN:STANDARD
TZOFFSETFROM:-0400
TZOFFSETTO:-0500
TZNAME:EST
DTSTART:20161106T060000
END:STANDARD
END:VTIMEZONE
BEGIN:VEVENT
DTSTART;TZID=America/Toronto:20151112T120000
DTEND;TZID=America/Toronto:20151112T130000
DTSTAMP:20260420T082333
CREATED:20151102T155956Z
LAST-MODIFIED:20151102T155956Z
UID:17470-1447329600-1447333200@guides.uoguelph.ca
SUMMARY:Thursday at Noon Concert Series Presents Nicole Ensing Band
DESCRIPTION:The Thursday at Noon Concert Series presents the Nicole Ensing Band in a performance titled “Riddles and Creeds.” The band explores the poetry of legendary British author G.K. Chesterton in song. Admission is free and everyone is welcome. \nLocation: MacKinnon Building\, Room 107
URL:https://guides.uoguelph.ca/event/thursday-at-noon-concert-series-presents-nicole-ensing-band/
LOCATION:MacKinnon Building\, 87 Trent Lane\, Guelph\, Ontario\, Canada
CATEGORIES:Homepage
GEO:43.5324591;-80.2273244
X-APPLE-STRUCTURED-LOCATION;VALUE=URI;X-ADDRESS=MacKinnon Building 87 Trent Lane Guelph Ontario Canada;X-APPLE-RADIUS=500;X-TITLE=87 Trent Lane:geo:-80.2273244,43.5324591
END:VEVENT
BEGIN:VEVENT
DTSTART;TZID=America/Toronto:20151105T120000
DTEND;TZID=America/Toronto:20151105T130000
DTSTAMP:20260420T082333
CREATED:20151102T155530Z
LAST-MODIFIED:20151102T155712Z
UID:17469-1446724800-1446728400@guides.uoguelph.ca
SUMMARY:Thursday at Noon Concert Series Presents Project Aria
DESCRIPTION:The Thursday at Noon Concert Series presents Project Aria in a performance called “The Gossamar Bridge: Music for Coloratura Soprano\, Trumpet and Piano.” \nJoin performers Leslie Fagan\, coloratura soprano; Guy Few\, trumpet; and Stephanie Mara\, piano\, for a joyous music concert with works by composers such as Bach\, Mozart\, Handel and Mendelssohn. Admission is free and everyone is welcome. \nTime: Noon \nLocation: MacKinnon Building\, Room 107
URL:https://guides.uoguelph.ca/event/thursday-at-noon-concert-series-presents-project-aria/
LOCATION:MacKinnon Building\, 87 Trent Lane\, Guelph\, Ontario\, Canada
CATEGORIES:Homepage
GEO:43.5324591;-80.2273244
X-APPLE-STRUCTURED-LOCATION;VALUE=URI;X-ADDRESS=MacKinnon Building 87 Trent Lane Guelph Ontario Canada;X-APPLE-RADIUS=500;X-TITLE=87 Trent Lane:geo:-80.2273244,43.5324591
END:VEVENT
BEGIN:VEVENT
DTSTART;TZID=America/Toronto:20151104T120000
DTEND;TZID=America/Toronto:20151104T133000
DTSTAMP:20260420T082333
CREATED:20151013T200059Z
LAST-MODIFIED:20151013T200059Z
UID:17143-1446638400-1446643800@guides.uoguelph.ca
SUMMARY:Ecological Justice: An Interdisciplinary Speaker Series
DESCRIPTION:Prof. Craig Johnson\, Department of Political Science and International Development Studies\, will discuss “North-South Equity and the Politics of Climate Change: Problems of Sovereignty and Responsibility in Global Climate Governance.” Everyone is welcome. \nLocation: MacKinnon Building\, Room 317
URL:https://guides.uoguelph.ca/event/ecological-justice-an-interdisciplinary-speaker-series-3/
LOCATION:MacKinnon Building\, 87 Trent Lane\, Guelph\, Ontario\, Canada
CATEGORIES:Homepage
GEO:43.5324591;-80.2273244
X-APPLE-STRUCTURED-LOCATION;VALUE=URI;X-ADDRESS=MacKinnon Building 87 Trent Lane Guelph Ontario Canada;X-APPLE-RADIUS=500;X-TITLE=87 Trent Lane:geo:-80.2273244,43.5324591
END:VEVENT
BEGIN:VEVENT
DTSTART;TZID=America/Toronto:20151029T120000
DTEND;TZID=America/Toronto:20151029T130000
DTSTAMP:20260420T082333
CREATED:20151028T133320Z
LAST-MODIFIED:20151028T133320Z
UID:17382-1446120000-1446123600@guides.uoguelph.ca
SUMMARY:Thursday at Noon Concert Series Presents Rachmaninoff and Brazilian Violin Sonatas
DESCRIPTION:Annette-Barbara Vogel and Ronald Greidanus perform works for violin and piano. \nLocation: MacKinnon Building\, Room 107
URL:https://guides.uoguelph.ca/event/thursday-at-noon-concert-series-presents-rachmaninoff-and-brazilian-violin-sonatas/
LOCATION:MacKinnon Building\, 87 Trent Lane\, Guelph\, Ontario\, Canada
CATEGORIES:Homepage
GEO:43.5324591;-80.2273244
X-APPLE-STRUCTURED-LOCATION;VALUE=URI;X-ADDRESS=MacKinnon Building 87 Trent Lane Guelph Ontario Canada;X-APPLE-RADIUS=500;X-TITLE=87 Trent Lane:geo:-80.2273244,43.5324591
END:VEVENT
BEGIN:VEVENT
DTSTART;TZID=America/Toronto:20151022T120000
DTEND;TZID=America/Toronto:20151022T130000
DTSTAMP:20260420T082333
CREATED:20151016T202252Z
LAST-MODIFIED:20151016T202252Z
UID:17206-1445515200-1445518800@guides.uoguelph.ca
SUMMARY:Thursday at Noon Concert Presents Beyond the Waves
DESCRIPTION:“Beyond the Waves” with Sharlene Wallace and George Koller will feature music performed on the Celtic harp and bass. Everyone is welcome. \n\n\nLocation: MacKinnon\, Room 107
URL:https://guides.uoguelph.ca/event/thursday-at-noon-concert-presents-beyond-the-waves/
LOCATION:MacKinnon Building\, 87 Trent Lane\, Guelph\, Ontario\, Canada
CATEGORIES:Homepage
GEO:43.5324591;-80.2273244
X-APPLE-STRUCTURED-LOCATION;VALUE=URI;X-ADDRESS=MacKinnon Building 87 Trent Lane Guelph Ontario Canada;X-APPLE-RADIUS=500;X-TITLE=87 Trent Lane:geo:-80.2273244,43.5324591
END:VEVENT
BEGIN:VEVENT
DTSTART;TZID=America/Toronto:20151008T120000
DTEND;TZID=America/Toronto:20151008T130000
DTSTAMP:20260420T082333
CREATED:20151006T155152Z
LAST-MODIFIED:20151006T155152Z
UID:17042-1444305600-1444309200@guides.uoguelph.ca
SUMMARY:Thursday at Noon Concert Series Presents Beatriz Boizán
DESCRIPTION:Beatriz Boizán performs piano compositions by her favourite Spanish and Latin American composers. This free concert begins at 12:10 p.m. and lasts 50 minutes.\n\nLocation: MacKinnon Building\, Room 107
URL:https://guides.uoguelph.ca/event/thursday-at-noon-concert-series-presents-beatriz-boizan/
LOCATION:MacKinnon Building\, 87 Trent Lane\, Guelph\, Ontario\, Canada
CATEGORIES:Homepage
GEO:43.5324591;-80.2273244
X-APPLE-STRUCTURED-LOCATION;VALUE=URI;X-ADDRESS=MacKinnon Building 87 Trent Lane Guelph Ontario Canada;X-APPLE-RADIUS=500;X-TITLE=87 Trent Lane:geo:-80.2273244,43.5324591
END:VEVENT
BEGIN:VEVENT
DTSTART;TZID=America/Toronto:20151007T143000
DTEND;TZID=America/Toronto:20151007T160000
DTSTAMP:20260420T082333
CREATED:20150922T172513Z
LAST-MODIFIED:20151001T124639Z
UID:16801-1444228200-1444233600@guides.uoguelph.ca
SUMMARY:MCB Distinguished Speaker Series
DESCRIPTION:Dr. Michael Moran\, Canada Research Chair and professor at the University of Toronto and the Hospital for Sick Children\, presents “Can ‘Omics Integration’ Reveal Polygenic Cancer Drivers?” The U of G faculty host is Prof. Nina Jones. Everyone is welcome to attend. \nLocation: MacKinnon Building\, Room 031
URL:https://guides.uoguelph.ca/event/mcb-distinguished-speaker-series/
LOCATION:MacKinnon Building\, 87 Trent Lane\, Guelph\, Ontario\, Canada
CATEGORIES:Homepage
GEO:43.5324591;-80.2273244
X-APPLE-STRUCTURED-LOCATION;VALUE=URI;X-ADDRESS=MacKinnon Building 87 Trent Lane Guelph Ontario Canada;X-APPLE-RADIUS=500;X-TITLE=87 Trent Lane:geo:-80.2273244,43.5324591
END:VEVENT
BEGIN:VEVENT
DTSTART;TZID=America/Toronto:20151007T120000
DTEND;TZID=America/Toronto:20151007T130000
DTSTAMP:20260420T082333
CREATED:20150923T132344Z
LAST-MODIFIED:20150923T132344Z
UID:16825-1444219200-1444222800@guides.uoguelph.ca
SUMMARY:Ecological Justice: An Interdisciplinary Speaker Series
DESCRIPTION:Prof. Ben Bradshaw\, Department of Geography\, presents “Company-Community Agreements in Canada’s Mining Sector: Instruments of Justice or Injustice?” A light lunch will be served. Everyone is welcome. \nLocation: MacKinnon Building\, Room 317
URL:https://guides.uoguelph.ca/event/ecological-justice-an-interdisciplinary-speaker-series-2/
LOCATION:MacKinnon Building\, 87 Trent Lane\, Guelph\, Ontario\, Canada
CATEGORIES:Homepage
GEO:43.5324591;-80.2273244
X-APPLE-STRUCTURED-LOCATION;VALUE=URI;X-ADDRESS=MacKinnon Building 87 Trent Lane Guelph Ontario Canada;X-APPLE-RADIUS=500;X-TITLE=87 Trent Lane:geo:-80.2273244,43.5324591
END:VEVENT
BEGIN:VEVENT
DTSTART;TZID=America/Toronto:20151001T120000
DTEND;TZID=America/Toronto:20151001T130000
DTSTAMP:20260420T082333
CREATED:20150928T130623Z
LAST-MODIFIED:20150929T142715Z
UID:16886-1443700800-1443704400@guides.uoguelph.ca
SUMMARY:Thursday At Noon Concert Series Presents Vox Metropolis
DESCRIPTION:This program showcases new music and a soundtrack composed and performed live by Vox Metropolis along with Buster Keaton’s 1924 classic Sherlock Jr. The ensemble members double on a variety of instruments\, including piano\, keyboards\, violin\, cello\, guitar\, flutes\, saxophone and whistles. \nLocation: MacKinnon\, R00m 107
URL:https://guides.uoguelph.ca/event/thursday-at-noon-concert-series-presents-vox-metropolis/
LOCATION:MacKinnon Building\, 87 Trent Lane\, Guelph\, Ontario\, Canada
GEO:43.5324591;-80.2273244
X-APPLE-STRUCTURED-LOCATION;VALUE=URI;X-ADDRESS=MacKinnon Building 87 Trent Lane Guelph Ontario Canada;X-APPLE-RADIUS=500;X-TITLE=87 Trent Lane:geo:-80.2273244,43.5324591
END:VEVENT
BEGIN:VEVENT
DTSTART;TZID=America/Toronto:20150924T121000
DTEND;TZID=America/Toronto:20150924T130000
DTSTAMP:20260420T082333
CREATED:20150918T204103Z
LAST-MODIFIED:20150918T204103Z
UID:16757-1443096600-1443099600@guides.uoguelph.ca
SUMMARY:Thursday At Noon Concert Presents Lynn Kuo and Jason Nett
DESCRIPTION:Lynn Kuo and Jason Nett perform “STRUNG: Modern Works for Violin and Guitar.” The contemporary program blends classical music\, blues and rock and roll. Admission is free and everyone is welcome. \nLocation: MacKinnon Building\, Room 107
URL:https://guides.uoguelph.ca/event/thursday-at-noon-concert-presents-lynn-kuo-and-jason-nett/
LOCATION:MacKinnon Building\, 87 Trent Lane\, Guelph\, Ontario\, Canada
CATEGORIES:Homepage
GEO:43.5324591;-80.2273244
X-APPLE-STRUCTURED-LOCATION;VALUE=URI;X-ADDRESS=MacKinnon Building 87 Trent Lane Guelph Ontario Canada;X-APPLE-RADIUS=500;X-TITLE=87 Trent Lane:geo:-80.2273244,43.5324591
END:VEVENT
BEGIN:VEVENT
DTSTART;TZID=America/Toronto:20150923T113000
DTEND;TZID=America/Toronto:20150923T130000
DTSTAMP:20260420T082333
CREATED:20150914T201837Z
LAST-MODIFIED:20150923T131145Z
UID:16697-1443007800-1443013200@guides.uoguelph.ca
SUMMARY:International Development Studies Speaker Event
DESCRIPTION:Des Gasper will give a talk on “Impacts on Health and Mortality of Climate Change and the Ethical Implications.” He is a professor of human development\, development ethics and public policy at the International Institute of Social Studies in The Hague. \nLocation: MacKinnon Building\, Room 230
URL:https://guides.uoguelph.ca/event/international-development-studies-speaker-event/
LOCATION:MacKinnon Building\, 87 Trent Lane\, Guelph\, Ontario\, Canada
CATEGORIES:Homepage
GEO:43.5324591;-80.2273244
X-APPLE-STRUCTURED-LOCATION;VALUE=URI;X-ADDRESS=MacKinnon Building 87 Trent Lane Guelph Ontario Canada;X-APPLE-RADIUS=500;X-TITLE=87 Trent Lane:geo:-80.2273244,43.5324591
END:VEVENT
BEGIN:VEVENT
DTSTART;TZID=America/Toronto:20150917T121000
DTEND;TZID=America/Toronto:20150917T130000
DTSTAMP:20260420T082333
CREATED:20150915T150210Z
LAST-MODIFIED:20150915T150329Z
UID:16705-1442491800-1442494800@guides.uoguelph.ca
SUMMARY:Thursdays at Noon Concert Series Presents Banda Magda
DESCRIPTION:New-York based global music ensemble Banda Magda brings their vibrant songs and stories to the University of Guelph. South American rhythm creates the pulse of this energizing group of friends who sing in five different languages in a mix of colour and sound. Admission is free but donations are gratefully appreciated. Everyone is welcome. \nLocation: MacKinnon Building\, Room 107
URL:https://guides.uoguelph.ca/event/thursdays-at-noon-concert-series-presents-banda-magda/
LOCATION:MacKinnon Building\, 87 Trent Lane\, Guelph\, Ontario\, Canada
CATEGORIES:Homepage
GEO:43.5324591;-80.2273244
X-APPLE-STRUCTURED-LOCATION;VALUE=URI;X-ADDRESS=MacKinnon Building 87 Trent Lane Guelph Ontario Canada;X-APPLE-RADIUS=500;X-TITLE=87 Trent Lane:geo:-80.2273244,43.5324591
END:VEVENT
BEGIN:VEVENT
DTSTART;TZID=America/Toronto:20150916T120000
DTEND;TZID=America/Toronto:20150916T140000
DTSTAMP:20260420T082333
CREATED:20150901T174434Z
LAST-MODIFIED:20150901T180320Z
UID:16554-1442404800-1442412000@guides.uoguelph.ca
SUMMARY:Ecological Justice: An Interdisciplinary Speaker Series
DESCRIPTION:Prof. Barry Smit\, Department of Geography\, presents “Climate Change is an Unnatural Disaster: Politics and Power\, Livelihood and Lives.” This event is sponsored by Initiatives in Global Justice. A light lunch will be served. \nLocation: MacKinnon Building\, Room 317
URL:https://guides.uoguelph.ca/event/ecological-justice-an-interdisciplinary-speaker-series/
LOCATION:MacKinnon Building\, 87 Trent Lane\, Guelph\, Ontario\, Canada
CATEGORIES:Homepage
GEO:43.5324591;-80.2273244
X-APPLE-STRUCTURED-LOCATION;VALUE=URI;X-ADDRESS=MacKinnon Building 87 Trent Lane Guelph Ontario Canada;X-APPLE-RADIUS=500;X-TITLE=87 Trent Lane:geo:-80.2273244,43.5324591
END:VEVENT
BEGIN:VEVENT
DTSTART;TZID=America/Toronto:20150914T170000
DTEND;TZID=America/Toronto:20150914T190000
DTSTAMP:20260420T082333
CREATED:20150804T202949Z
LAST-MODIFIED:20150910T195828Z
UID:16248-1442250000-1442257200@guides.uoguelph.ca
SUMMARY:PhD Thesis Defence: Brooke Struck
DESCRIPTION:Brooke Struck\, a PhD candidate in the Department of Philosophy\, will defend his thesis on “The Critical Stance: Ernst Cassirer and the Realist-Empiricist Dispute in the Philosophy of Science.” His adviser is Prof. Jeff Mitscherling.  \nLocation: MacKinnon Building\, Room 346
URL:https://guides.uoguelph.ca/event/phd-thesis-defence-brooke-struck/
LOCATION:MacKinnon Building\, 87 Trent Lane\, Guelph\, Ontario\, Canada
GEO:43.5324591;-80.2273244
X-APPLE-STRUCTURED-LOCATION;VALUE=URI;X-ADDRESS=MacKinnon Building 87 Trent Lane Guelph Ontario Canada;X-APPLE-RADIUS=500;X-TITLE=87 Trent Lane:geo:-80.2273244,43.5324591
END:VEVENT
END:VCALENDAR