BEGIN:VCALENDAR
VERSION:2.0
PRODID:-//U of G News - ECPv6.15.11//NONSGML v1.0//EN
CALSCALE:GREGORIAN
METHOD:PUBLISH
X-WR-CALNAME:U of G News
X-ORIGINAL-URL:https://guides.uoguelph.ca
X-WR-CALDESC:Events for U of G News
REFRESH-INTERVAL;VALUE=DURATION:PT1H
X-Robots-Tag:noindex
X-PUBLISHED-TTL:PT1H
BEGIN:VTIMEZONE
TZID:America/Toronto
BEGIN:DAYLIGHT
TZOFFSETFROM:-0500
TZOFFSETTO:-0400
TZNAME:EDT
DTSTART:20140309T070000
END:DAYLIGHT
BEGIN:STANDARD
TZOFFSETFROM:-0400
TZOFFSETTO:-0500
TZNAME:EST
DTSTART:20141102T060000
END:STANDARD
BEGIN:DAYLIGHT
TZOFFSETFROM:-0500
TZOFFSETTO:-0400
TZNAME:EDT
DTSTART:20150308T070000
END:DAYLIGHT
BEGIN:STANDARD
TZOFFSETFROM:-0400
TZOFFSETTO:-0500
TZNAME:EST
DTSTART:20151101T060000
END:STANDARD
BEGIN:DAYLIGHT
TZOFFSETFROM:-0500
TZOFFSETTO:-0400
TZNAME:EDT
DTSTART:20160313T070000
END:DAYLIGHT
BEGIN:STANDARD
TZOFFSETFROM:-0400
TZOFFSETTO:-0500
TZNAME:EST
DTSTART:20161106T060000
END:STANDARD
BEGIN:DAYLIGHT
TZOFFSETFROM:-0500
TZOFFSETTO:-0400
TZNAME:EDT
DTSTART:20170312T070000
END:DAYLIGHT
BEGIN:STANDARD
TZOFFSETFROM:-0400
TZOFFSETTO:-0500
TZNAME:EST
DTSTART:20171105T060000
END:STANDARD
BEGIN:DAYLIGHT
TZOFFSETFROM:-0500
TZOFFSETTO:-0400
TZNAME:EDT
DTSTART:20180311T070000
END:DAYLIGHT
BEGIN:STANDARD
TZOFFSETFROM:-0400
TZOFFSETTO:-0500
TZNAME:EST
DTSTART:20181104T060000
END:STANDARD
END:VTIMEZONE
BEGIN:VEVENT
DTSTART;TZID=America/Toronto:20170921T120000
DTEND;TZID=America/Toronto:20170921T120000
DTSTAMP:20260420T222232
CREATED:20170901T124733Z
LAST-MODIFIED:20170901T124733Z
UID:29126-1505995200-1505995200@guides.uoguelph.ca
SUMMARY:Landscape Architecture Guest Lecture by Roberto Rovira
DESCRIPTION:The landscape architecture program in the School of Environmental Design and Rural Development presents a guest lecture by Roberto Rovira\, principal and landscape architect of Studio Rovira and Associate Professor at Florida International University.  His talk is titled “Temporary Permanence: Landscapes\, Ecology and Public Space.” \nThe event will be held in the Pit Lobby of the Landscape Architecture Building.
URL:https://guides.uoguelph.ca/event/landscape-architecture-guest-lecture-roberto-rovira/
LOCATION:Landscape Architecture\, 124 Reynolds Walk\, Guelph\, Ontario\, N1G2W1\, Canada
CATEGORIES:Homepage
GEO:41.906071;-71.7784762
X-APPLE-STRUCTURED-LOCATION;VALUE=URI;X-ADDRESS=Landscape Architecture 124 Reynolds Walk Guelph Ontario N1G2W1 Canada;X-APPLE-RADIUS=500;X-TITLE=124 Reynolds Walk:geo:-71.7784762,41.906071
END:VEVENT
BEGIN:VEVENT
DTSTART;TZID=America/Toronto:20170907T090000
DTEND;TZID=America/Toronto:20170907T090000
DTSTAMP:20260420T222232
CREATED:20170901T124424Z
LAST-MODIFIED:20170901T124424Z
UID:29124-1504774800-1504774800@guides.uoguelph.ca
SUMMARY:MLA Thesis Defense:  Nadine Bohner
DESCRIPTION:Nadine Bohner\, a Master of Landscape Architecture candidate in the School of Environmental Design and Rural Development will defend her thesis on “Landscape Effects on Turtle Road Trauma.” The advisor is Professor Robert Corry.  All are welcome to attend. \nRoom 202\, Landscape Architecture Building
URL:https://guides.uoguelph.ca/event/mla-thesis-defense-nadine-bohner/
LOCATION:Landscape Architecture\, 124 Reynolds Walk\, Guelph\, Ontario\, N1G2W1\, Canada
GEO:41.906071;-71.7784762
X-APPLE-STRUCTURED-LOCATION;VALUE=URI;X-ADDRESS=Landscape Architecture 124 Reynolds Walk Guelph Ontario N1G2W1 Canada;X-APPLE-RADIUS=500;X-TITLE=124 Reynolds Walk:geo:-71.7784762,41.906071
END:VEVENT
BEGIN:VEVENT
DTSTART;TZID=America/Toronto:20151119T173000
DTEND;TZID=America/Toronto:20151119T190000
DTSTAMP:20260420T222232
CREATED:20151030T194552Z
LAST-MODIFIED:20151030T194552Z
UID:17451-1447954200-1447959600@guides.uoguelph.ca
SUMMARY:SEDRD Grad Program Info Night
DESCRIPTION:The School of Environmental Design and Rural Development is hosting a Graduate Program Information Night for prospective graduate students. \nThis event is an opportunity to learn about the graduate degrees offered in SEDRD\, including: \n\n\nLandscape Architecture MLA\nRural Planning and Development M.Sc. and MPlan\nCapacity Development and Extension M.Sc.\nRural Studies PhD\n\n\nLocation: Landscape Architecture Lobby
URL:https://guides.uoguelph.ca/event/sedrd-grad-program-info-night/
LOCATION:Landscape Architecture\, 124 Reynolds Walk\, Guelph\, Ontario\, N1G2W1\, Canada
CATEGORIES:Homepage
GEO:41.906071;-71.7784762
X-APPLE-STRUCTURED-LOCATION;VALUE=URI;X-ADDRESS=Landscape Architecture 124 Reynolds Walk Guelph Ontario N1G2W1 Canada;X-APPLE-RADIUS=500;X-TITLE=124 Reynolds Walk:geo:-71.7784762,41.906071
END:VEVENT
BEGIN:VEVENT
DTSTART;VALUE=DATE:20150918
DTEND;VALUE=DATE:20150921
DTSTAMP:20260420T222232
CREATED:20150807T125232Z
LAST-MODIFIED:20150807T125232Z
UID:16265-1442534400-1442793599@guides.uoguelph.ca
SUMMARY:Landscape Architecture 50-Year Celebration
DESCRIPTION:Landscape architecture (LA) graduates and their families are invited to a weekend celebration of 50 years of landscape architecture at the University of Guelph.
URL:https://guides.uoguelph.ca/event/landscape-architecture-50-year-celebration/
LOCATION:Landscape Architecture\, 124 Reynolds Walk\, Guelph\, Ontario\, N1G2W1\, Canada
CATEGORIES:Homepage
GEO:41.906071;-71.7784762
X-APPLE-STRUCTURED-LOCATION;VALUE=URI;X-ADDRESS=Landscape Architecture 124 Reynolds Walk Guelph Ontario N1G2W1 Canada;X-APPLE-RADIUS=500;X-TITLE=124 Reynolds Walk:geo:-71.7784762,41.906071
END:VEVENT
BEGIN:VEVENT
DTSTART;TZID=America/Toronto:20150903T130000
DTEND;TZID=America/Toronto:20150903T150000
DTSTAMP:20260420T222232
CREATED:20150901T180916Z
LAST-MODIFIED:20150901T180916Z
UID:16558-1441285200-1441292400@guides.uoguelph.ca
SUMMARY:MLA Thesis Defence: Stuart Chan
DESCRIPTION:Stuart Chan\, a master of landscape architecture candidate in the School of Environmental Design and Rural Development\, will defend his thesis on “Designing with the Scars of Our Landscapes: Dilemmas and Delights in Working with Terrain Vague and Postmodern Concepts.” The adviser is Prof. Larry Harder. \nLocation: Landscape Architecture\, Room 143
URL:https://guides.uoguelph.ca/event/mla-thesis-defence-stuart-chan/
LOCATION:Landscape Architecture\, 124 Reynolds Walk\, Guelph\, Ontario\, N1G2W1\, Canada
GEO:41.906071;-71.7784762
X-APPLE-STRUCTURED-LOCATION;VALUE=URI;X-ADDRESS=Landscape Architecture 124 Reynolds Walk Guelph Ontario N1G2W1 Canada;X-APPLE-RADIUS=500;X-TITLE=124 Reynolds Walk:geo:-71.7784762,41.906071
END:VEVENT
BEGIN:VEVENT
DTSTART;TZID=America/Toronto:20150902T130000
DTEND;TZID=America/Toronto:20150902T160000
DTSTAMP:20260420T222232
CREATED:20150811T182355Z
LAST-MODIFIED:20150811T182448Z
UID:16312-1441198800-1441209600@guides.uoguelph.ca
SUMMARY:MLA Thesis Defence: Elena Christy
DESCRIPTION:Elena Christy\, an MLA candidate in the School of Environmental Design and Rural Development\, will defend her thesis on “Designing Resilient Citylands Through Community Participation.” Her adviser is Prof. Karen Landman. \nLocation: Landscape Architecture\, Room 125
URL:https://guides.uoguelph.ca/event/mla-thesis-defence-elena-christy/
LOCATION:Landscape Architecture\, 124 Reynolds Walk\, Guelph\, Ontario\, N1G2W1\, Canada
GEO:41.906071;-71.7784762
X-APPLE-STRUCTURED-LOCATION;VALUE=URI;X-ADDRESS=Landscape Architecture 124 Reynolds Walk Guelph Ontario N1G2W1 Canada;X-APPLE-RADIUS=500;X-TITLE=124 Reynolds Walk:geo:-71.7784762,41.906071
END:VEVENT
BEGIN:VEVENT
DTSTART;TZID=America/Toronto:20150819T093000
DTEND;TZID=America/Toronto:20150819T113000
DTSTAMP:20260420T222232
CREATED:20150811T182939Z
LAST-MODIFIED:20150811T183022Z
UID:16313-1439976600-1439983800@guides.uoguelph.ca
SUMMARY:MLA Thesis Defence: Jessica Brommer
DESCRIPTION:Jessica Brommer\, an MLA candidate in the School of Environmental Design and Rural Development\, will defend her thesis on “Planning for Trees: Developing a Spatial Form Model to Determine Maximum Potential Canopy Cover and Other Urban Forestry Metrics in Guelph\, Ontario.” Her adviser is Prof. Robert Corry. \nLocation: Landscape Architecture\, Room 125
URL:https://guides.uoguelph.ca/event/mla-thesis-defence-jessica-brommer/
LOCATION:Landscape Architecture\, 124 Reynolds Walk\, Guelph\, Ontario\, N1G2W1\, Canada
GEO:41.906071;-71.7784762
X-APPLE-STRUCTURED-LOCATION;VALUE=URI;X-ADDRESS=Landscape Architecture 124 Reynolds Walk Guelph Ontario N1G2W1 Canada;X-APPLE-RADIUS=500;X-TITLE=124 Reynolds Walk:geo:-71.7784762,41.906071
END:VEVENT
END:VCALENDAR