BEGIN:VCALENDAR
VERSION:2.0
PRODID:-//U of G News - ECPv6.15.11//NONSGML v1.0//EN
CALSCALE:GREGORIAN
METHOD:PUBLISH
X-ORIGINAL-URL:https://guides.uoguelph.ca
X-WR-CALDESC:Events for U of G News
REFRESH-INTERVAL;VALUE=DURATION:PT1H
X-Robots-Tag:noindex
X-PUBLISHED-TTL:PT1H
BEGIN:VTIMEZONE
TZID:America/Toronto
BEGIN:DAYLIGHT
TZOFFSETFROM:-0500
TZOFFSETTO:-0400
TZNAME:EDT
DTSTART:20140309T070000
END:DAYLIGHT
BEGIN:STANDARD
TZOFFSETFROM:-0400
TZOFFSETTO:-0500
TZNAME:EST
DTSTART:20141102T060000
END:STANDARD
BEGIN:DAYLIGHT
TZOFFSETFROM:-0500
TZOFFSETTO:-0400
TZNAME:EDT
DTSTART:20150308T070000
END:DAYLIGHT
BEGIN:STANDARD
TZOFFSETFROM:-0400
TZOFFSETTO:-0500
TZNAME:EST
DTSTART:20151101T060000
END:STANDARD
BEGIN:DAYLIGHT
TZOFFSETFROM:-0500
TZOFFSETTO:-0400
TZNAME:EDT
DTSTART:20160313T070000
END:DAYLIGHT
BEGIN:STANDARD
TZOFFSETFROM:-0400
TZOFFSETTO:-0500
TZNAME:EST
DTSTART:20161106T060000
END:STANDARD
END:VTIMEZONE
BEGIN:VEVENT
DTSTART;TZID=America/Toronto:20151015T100000
DTEND;TZID=America/Toronto:20151015T140000
DTSTAMP:20260425T210925
CREATED:20150901T181733Z
LAST-MODIFIED:20150930T185941Z
UID:16560-1444903200-1444917600@guides.uoguelph.ca
SUMMARY:CCS Security Awareness Roadshow
DESCRIPTION:The U of G community is invited to the fall Security Awareness Roadshow. Come by the University Centre and test your knowledge on the cyber security quiz\, visit the information booths\, pick up some free pizza and enter the draw for prizes. \nLocation: University Centre\, Courtyard
URL:https://guides.uoguelph.ca/event/ccs-security-awareness-roadshow/
LOCATION:University Centre\, Ontario\, Canada
CATEGORIES:Homepage
GEO:43.5305188;-80.2262524
END:VEVENT
END:VCALENDAR