BEGIN:VCALENDAR
VERSION:2.0
PRODID:-//U of G News - ECPv6.15.11//NONSGML v1.0//EN
CALSCALE:GREGORIAN
METHOD:PUBLISH
X-ORIGINAL-URL:https://guides.uoguelph.ca
X-WR-CALDESC:Events for U of G News
REFRESH-INTERVAL;VALUE=DURATION:PT1H
X-Robots-Tag:noindex
X-PUBLISHED-TTL:PT1H
BEGIN:VTIMEZONE
TZID:America/Toronto
BEGIN:DAYLIGHT
TZOFFSETFROM:-0500
TZOFFSETTO:-0400
TZNAME:EDT
DTSTART:20250309T070000
END:DAYLIGHT
BEGIN:STANDARD
TZOFFSETFROM:-0400
TZOFFSETTO:-0500
TZNAME:EST
DTSTART:20251102T060000
END:STANDARD
BEGIN:DAYLIGHT
TZOFFSETFROM:-0500
TZOFFSETTO:-0400
TZNAME:EDT
DTSTART:20260308T070000
END:DAYLIGHT
BEGIN:STANDARD
TZOFFSETFROM:-0400
TZOFFSETTO:-0500
TZNAME:EST
DTSTART:20261101T060000
END:STANDARD
BEGIN:DAYLIGHT
TZOFFSETFROM:-0500
TZOFFSETTO:-0400
TZNAME:EDT
DTSTART:20270314T070000
END:DAYLIGHT
BEGIN:STANDARD
TZOFFSETFROM:-0400
TZOFFSETTO:-0500
TZNAME:EST
DTSTART:20271107T060000
END:STANDARD
END:VTIMEZONE
BEGIN:VEVENT
DTSTART;TZID=America/Toronto:20260602T190000
DTEND;TZID=America/Toronto:20260602T200000
DTSTAMP:20260424T094315
CREATED:20260423T200248Z
LAST-MODIFIED:20260423T200248Z
UID:214068-1780426800-1780430400@guides.uoguelph.ca
SUMMARY:Virtual Tree Identification
DESCRIPTION:Do you love trees but can’t tell an Ash from a Walnut\, a Birch from a Beech\, or a Spruce from a Fir? Are you looking to connect more with the natural world around you? Join Shelley Hunt\, U of Guelph course instructor and former Arboretum Director\, for a virtual\, interactive tree identification workshop. Over the course of 4 Zoom sessions\, with hands-on challenges to complete in between\, you will learn the basics of tree ID\, with a focus on native Ontario species (and their look-alike non-native counterparts). You will learn about the important features to look for (e.g. leaf shape and arrangement\, bark characteristics\, fruits and cones)\, as well as the details that help us to distinguish between species in the same group (e.g. Ashes\, Pines\, Maples). You will practice your skills on trees that you can find in your local area\, and get feedback on your ‘homework’. The fourth session will include a virtual tour of trees in The Arboretum’s collections. \nPlease Note: This course is only on-line. A separate in-person course is also available on September 19.\nWe also send recordings out after each session\, so if you miss a session you can watch the recording. The recordings are available for one month after the end of the workshop. \nFee: $50 (plus HST) per person.
URL:https://guides.uoguelph.ca/event/virtual-tree-identification-2/2026-06-02/
LOCATION:Arboretum Centre\, 250 Arboretum Rd\, Guelph\, N1G 2W1\, Canada
GEO:43.5399138;-80.2167942
X-APPLE-STRUCTURED-LOCATION;VALUE=URI;X-ADDRESS=Arboretum Centre 250 Arboretum Rd Guelph N1G 2W1 Canada;X-APPLE-RADIUS=500;X-TITLE=250 Arboretum Rd:geo:-80.2167942,43.5399138
END:VEVENT
BEGIN:VEVENT
DTSTART;TZID=America/Toronto:20260609T190000
DTEND;TZID=America/Toronto:20260609T200000
DTSTAMP:20260424T094315
CREATED:20260423T200250Z
LAST-MODIFIED:20260423T200250Z
UID:214071-1781031600-1781035200@guides.uoguelph.ca
SUMMARY:Virtual Tree Identification
DESCRIPTION:Do you love trees but can’t tell an Ash from a Walnut\, a Birch from a Beech\, or a Spruce from a Fir? Are you looking to connect more with the natural world around you? Join Shelley Hunt\, U of Guelph course instructor and former Arboretum Director\, for a virtual\, interactive tree identification workshop. Over the course of 4 Zoom sessions\, with hands-on challenges to complete in between\, you will learn the basics of tree ID\, with a focus on native Ontario species (and their look-alike non-native counterparts). You will learn about the important features to look for (e.g. leaf shape and arrangement\, bark characteristics\, fruits and cones)\, as well as the details that help us to distinguish between species in the same group (e.g. Ashes\, Pines\, Maples). You will practice your skills on trees that you can find in your local area\, and get feedback on your ‘homework’. The fourth session will include a virtual tour of trees in The Arboretum’s collections. \nPlease Note: This course is only on-line. A separate in-person course is also available on September 19.\nWe also send recordings out after each session\, so if you miss a session you can watch the recording. The recordings are available for one month after the end of the workshop. \nFee: $50 (plus HST) per person.
URL:https://guides.uoguelph.ca/event/virtual-tree-identification-2/2026-06-09/
LOCATION:Arboretum Centre\, 250 Arboretum Rd\, Guelph\, N1G 2W1\, Canada
GEO:43.5399138;-80.2167942
X-APPLE-STRUCTURED-LOCATION;VALUE=URI;X-ADDRESS=Arboretum Centre 250 Arboretum Rd Guelph N1G 2W1 Canada;X-APPLE-RADIUS=500;X-TITLE=250 Arboretum Rd:geo:-80.2167942,43.5399138
END:VEVENT
BEGIN:VEVENT
DTSTART;TZID=America/Toronto:20260616T190000
DTEND;TZID=America/Toronto:20260616T200000
DTSTAMP:20260424T094315
CREATED:20260423T200252Z
LAST-MODIFIED:20260423T200252Z
UID:214072-1781636400-1781640000@guides.uoguelph.ca
SUMMARY:Virtual Tree Identification
DESCRIPTION:Do you love trees but can’t tell an Ash from a Walnut\, a Birch from a Beech\, or a Spruce from a Fir? Are you looking to connect more with the natural world around you? Join Shelley Hunt\, U of Guelph course instructor and former Arboretum Director\, for a virtual\, interactive tree identification workshop. Over the course of 4 Zoom sessions\, with hands-on challenges to complete in between\, you will learn the basics of tree ID\, with a focus on native Ontario species (and their look-alike non-native counterparts). You will learn about the important features to look for (e.g. leaf shape and arrangement\, bark characteristics\, fruits and cones)\, as well as the details that help us to distinguish between species in the same group (e.g. Ashes\, Pines\, Maples). You will practice your skills on trees that you can find in your local area\, and get feedback on your ‘homework’. The fourth session will include a virtual tour of trees in The Arboretum’s collections. \nPlease Note: This course is only on-line. A separate in-person course is also available on September 19.\nWe also send recordings out after each session\, so if you miss a session you can watch the recording. The recordings are available for one month after the end of the workshop. \nFee: $50 (plus HST) per person.
URL:https://guides.uoguelph.ca/event/virtual-tree-identification-2/2026-06-16/
LOCATION:Arboretum Centre\, 250 Arboretum Rd\, Guelph\, N1G 2W1\, Canada
GEO:43.5399138;-80.2167942
X-APPLE-STRUCTURED-LOCATION;VALUE=URI;X-ADDRESS=Arboretum Centre 250 Arboretum Rd Guelph N1G 2W1 Canada;X-APPLE-RADIUS=500;X-TITLE=250 Arboretum Rd:geo:-80.2167942,43.5399138
END:VEVENT
BEGIN:VEVENT
DTSTART;TZID=America/Toronto:20260623T190000
DTEND;TZID=America/Toronto:20260623T200000
DTSTAMP:20260424T094315
CREATED:20260423T200254Z
LAST-MODIFIED:20260423T200254Z
UID:214073-1782241200-1782244800@guides.uoguelph.ca
SUMMARY:Virtual Tree Identification
DESCRIPTION:Do you love trees but can’t tell an Ash from a Walnut\, a Birch from a Beech\, or a Spruce from a Fir? Are you looking to connect more with the natural world around you? Join Shelley Hunt\, U of Guelph course instructor and former Arboretum Director\, for a virtual\, interactive tree identification workshop. Over the course of 4 Zoom sessions\, with hands-on challenges to complete in between\, you will learn the basics of tree ID\, with a focus on native Ontario species (and their look-alike non-native counterparts). You will learn about the important features to look for (e.g. leaf shape and arrangement\, bark characteristics\, fruits and cones)\, as well as the details that help us to distinguish between species in the same group (e.g. Ashes\, Pines\, Maples). You will practice your skills on trees that you can find in your local area\, and get feedback on your ‘homework’. The fourth session will include a virtual tour of trees in The Arboretum’s collections. \nPlease Note: This course is only on-line. A separate in-person course is also available on September 19.\nWe also send recordings out after each session\, so if you miss a session you can watch the recording. The recordings are available for one month after the end of the workshop. \nFee: $50 (plus HST) per person.
URL:https://guides.uoguelph.ca/event/virtual-tree-identification-2/2026-06-23/
LOCATION:Arboretum Centre\, 250 Arboretum Rd\, Guelph\, N1G 2W1\, Canada
GEO:43.5399138;-80.2167942
X-APPLE-STRUCTURED-LOCATION;VALUE=URI;X-ADDRESS=Arboretum Centre 250 Arboretum Rd Guelph N1G 2W1 Canada;X-APPLE-RADIUS=500;X-TITLE=250 Arboretum Rd:geo:-80.2167942,43.5399138
END:VEVENT
END:VCALENDAR