BEGIN:VCALENDAR
VERSION:2.0
PRODID:-//U of G News - ECPv6.15.11//NONSGML v1.0//EN
CALSCALE:GREGORIAN
METHOD:PUBLISH
X-WR-CALNAME:U of G News
X-ORIGINAL-URL:https://guides.uoguelph.ca
X-WR-CALDESC:Events for U of G News
REFRESH-INTERVAL;VALUE=DURATION:PT1H
X-Robots-Tag:noindex
X-PUBLISHED-TTL:PT1H
BEGIN:VTIMEZONE
TZID:America/Toronto
BEGIN:DAYLIGHT
TZOFFSETFROM:-0500
TZOFFSETTO:-0400
TZNAME:EDT
DTSTART:20240310T070000
END:DAYLIGHT
BEGIN:STANDARD
TZOFFSETFROM:-0400
TZOFFSETTO:-0500
TZNAME:EST
DTSTART:20241103T060000
END:STANDARD
BEGIN:DAYLIGHT
TZOFFSETFROM:-0500
TZOFFSETTO:-0400
TZNAME:EDT
DTSTART:20250309T070000
END:DAYLIGHT
BEGIN:STANDARD
TZOFFSETFROM:-0400
TZOFFSETTO:-0500
TZNAME:EST
DTSTART:20251102T060000
END:STANDARD
BEGIN:DAYLIGHT
TZOFFSETFROM:-0500
TZOFFSETTO:-0400
TZNAME:EDT
DTSTART:20260308T070000
END:DAYLIGHT
BEGIN:STANDARD
TZOFFSETFROM:-0400
TZOFFSETTO:-0500
TZNAME:EST
DTSTART:20261101T060000
END:STANDARD
END:VTIMEZONE
BEGIN:VEVENT
DTSTART;TZID=America/Toronto:20250212T120000
DTEND;TZID=America/Toronto:20250212T130000
DTSTAMP:20260424T033609
CREATED:20241025T125625Z
LAST-MODIFIED:20241025T125625Z
UID:141810-1739361600-1739365200@guides.uoguelph.ca
SUMMARY:Virtual Cottage Birds Series
DESCRIPTION:While sitting on the dock\, have you ever asked “Did that loon just attack that duck?” or “How can that Pileated Woodpecker peck such big holes without hurting its brain?” or “Which hawk is that flying overhead?” The answers to these and many other bird-related questions will be covered in this series of eight one-hour sessions on the birds you notice while visiting a cottage\, hiking in a northern park or tenting at your favourite campsite. We will cover identification clues\, behavior\, nesting info\, habitat\, foraging techniques and more. Cottage projects and activities that help birds will also be a part of each session as well as a 10-15 minute discussion period for bird-related questions. All eight programs cost of $70 (plus tax) – that’s less than $10 per program! \nMondays and Wednesdays\, January 20\, 22\, 27\, 29\, February 3\, 5\, 10\, and 12\, 2025\, noon to 1 p.m. \nFee: $70.00 + H.S.T. This event will take place on Zoom. The list of topics with the presentation date is listed below. If you miss any of the programs\, each one is recorded and the recording will be sent to you the next day. The recordings will be available for one month after the last program.
URL:https://guides.uoguelph.ca/event/virtual-cottage-birds-series/2025-02-12/
LOCATION:Arboretum Centre\, 250 Arboretum Rd\, Guelph\, N1G 2W1\, Canada
CATEGORIES:Intranet Events
GEO:43.5399138;-80.2167942
X-APPLE-STRUCTURED-LOCATION;VALUE=URI;X-ADDRESS=Arboretum Centre 250 Arboretum Rd Guelph N1G 2W1 Canada;X-APPLE-RADIUS=500;X-TITLE=250 Arboretum Rd:geo:-80.2167942,43.5399138
END:VEVENT
BEGIN:VEVENT
DTSTART;TZID=America/Toronto:20250210T120000
DTEND;TZID=America/Toronto:20250210T130000
DTSTAMP:20260424T033609
CREATED:20241025T125625Z
LAST-MODIFIED:20241025T125625Z
UID:141808-1739188800-1739192400@guides.uoguelph.ca
SUMMARY:Virtual Cottage Birds Series
DESCRIPTION:While sitting on the dock\, have you ever asked “Did that loon just attack that duck?” or “How can that Pileated Woodpecker peck such big holes without hurting its brain?” or “Which hawk is that flying overhead?” The answers to these and many other bird-related questions will be covered in this series of eight one-hour sessions on the birds you notice while visiting a cottage\, hiking in a northern park or tenting at your favourite campsite. We will cover identification clues\, behavior\, nesting info\, habitat\, foraging techniques and more. Cottage projects and activities that help birds will also be a part of each session as well as a 10-15 minute discussion period for bird-related questions. All eight programs cost of $70 (plus tax) – that’s less than $10 per program! \nMondays and Wednesdays\, January 20\, 22\, 27\, 29\, February 3\, 5\, 10\, and 12\, 2025\, noon to 1 p.m. \nFee: $70.00 + H.S.T. This event will take place on Zoom. The list of topics with the presentation date is listed below. If you miss any of the programs\, each one is recorded and the recording will be sent to you the next day. The recordings will be available for one month after the last program.
URL:https://guides.uoguelph.ca/event/virtual-cottage-birds-series/2025-02-10/
LOCATION:Arboretum Centre\, 250 Arboretum Rd\, Guelph\, N1G 2W1\, Canada
CATEGORIES:Intranet Events
GEO:43.5399138;-80.2167942
X-APPLE-STRUCTURED-LOCATION;VALUE=URI;X-ADDRESS=Arboretum Centre 250 Arboretum Rd Guelph N1G 2W1 Canada;X-APPLE-RADIUS=500;X-TITLE=250 Arboretum Rd:geo:-80.2167942,43.5399138
END:VEVENT
BEGIN:VEVENT
DTSTART;TZID=America/Toronto:20250205T120000
DTEND;TZID=America/Toronto:20250205T130000
DTSTAMP:20260424T033609
CREATED:20241025T125625Z
LAST-MODIFIED:20241025T125625Z
UID:141806-1738756800-1738760400@guides.uoguelph.ca
SUMMARY:Virtual Cottage Birds Series
DESCRIPTION:While sitting on the dock\, have you ever asked “Did that loon just attack that duck?” or “How can that Pileated Woodpecker peck such big holes without hurting its brain?” or “Which hawk is that flying overhead?” The answers to these and many other bird-related questions will be covered in this series of eight one-hour sessions on the birds you notice while visiting a cottage\, hiking in a northern park or tenting at your favourite campsite. We will cover identification clues\, behavior\, nesting info\, habitat\, foraging techniques and more. Cottage projects and activities that help birds will also be a part of each session as well as a 10-15 minute discussion period for bird-related questions. All eight programs cost of $70 (plus tax) – that’s less than $10 per program! \nMondays and Wednesdays\, January 20\, 22\, 27\, 29\, February 3\, 5\, 10\, and 12\, 2025\, noon to 1 p.m. \nFee: $70.00 + H.S.T. This event will take place on Zoom. The list of topics with the presentation date is listed below. If you miss any of the programs\, each one is recorded and the recording will be sent to you the next day. The recordings will be available for one month after the last program.
URL:https://guides.uoguelph.ca/event/virtual-cottage-birds-series/2025-02-05/
LOCATION:Arboretum Centre\, 250 Arboretum Rd\, Guelph\, N1G 2W1\, Canada
CATEGORIES:Intranet Events
GEO:43.5399138;-80.2167942
X-APPLE-STRUCTURED-LOCATION;VALUE=URI;X-ADDRESS=Arboretum Centre 250 Arboretum Rd Guelph N1G 2W1 Canada;X-APPLE-RADIUS=500;X-TITLE=250 Arboretum Rd:geo:-80.2167942,43.5399138
END:VEVENT
BEGIN:VEVENT
DTSTART;TZID=America/Toronto:20250203T120000
DTEND;TZID=America/Toronto:20250203T130000
DTSTAMP:20260424T033609
CREATED:20241025T125625Z
LAST-MODIFIED:20241025T125625Z
UID:141804-1738584000-1738587600@guides.uoguelph.ca
SUMMARY:Virtual Cottage Birds Series
DESCRIPTION:While sitting on the dock\, have you ever asked “Did that loon just attack that duck?” or “How can that Pileated Woodpecker peck such big holes without hurting its brain?” or “Which hawk is that flying overhead?” The answers to these and many other bird-related questions will be covered in this series of eight one-hour sessions on the birds you notice while visiting a cottage\, hiking in a northern park or tenting at your favourite campsite. We will cover identification clues\, behavior\, nesting info\, habitat\, foraging techniques and more. Cottage projects and activities that help birds will also be a part of each session as well as a 10-15 minute discussion period for bird-related questions. All eight programs cost of $70 (plus tax) – that’s less than $10 per program! \nMondays and Wednesdays\, January 20\, 22\, 27\, 29\, February 3\, 5\, 10\, and 12\, 2025\, noon to 1 p.m. \nFee: $70.00 + H.S.T. This event will take place on Zoom. The list of topics with the presentation date is listed below. If you miss any of the programs\, each one is recorded and the recording will be sent to you the next day. The recordings will be available for one month after the last program.
URL:https://guides.uoguelph.ca/event/virtual-cottage-birds-series/2025-02-03/
LOCATION:Arboretum Centre\, 250 Arboretum Rd\, Guelph\, N1G 2W1\, Canada
CATEGORIES:Intranet Events
GEO:43.5399138;-80.2167942
X-APPLE-STRUCTURED-LOCATION;VALUE=URI;X-ADDRESS=Arboretum Centre 250 Arboretum Rd Guelph N1G 2W1 Canada;X-APPLE-RADIUS=500;X-TITLE=250 Arboretum Rd:geo:-80.2167942,43.5399138
END:VEVENT
BEGIN:VEVENT
DTSTART;TZID=America/Toronto:20250129T120000
DTEND;TZID=America/Toronto:20250129T130000
DTSTAMP:20260424T033609
CREATED:20241025T125625Z
LAST-MODIFIED:20241025T125625Z
UID:141802-1738152000-1738155600@guides.uoguelph.ca
SUMMARY:Virtual Cottage Birds Series
DESCRIPTION:While sitting on the dock\, have you ever asked “Did that loon just attack that duck?” or “How can that Pileated Woodpecker peck such big holes without hurting its brain?” or “Which hawk is that flying overhead?” The answers to these and many other bird-related questions will be covered in this series of eight one-hour sessions on the birds you notice while visiting a cottage\, hiking in a northern park or tenting at your favourite campsite. We will cover identification clues\, behavior\, nesting info\, habitat\, foraging techniques and more. Cottage projects and activities that help birds will also be a part of each session as well as a 10-15 minute discussion period for bird-related questions. All eight programs cost of $70 (plus tax) – that’s less than $10 per program! \nMondays and Wednesdays\, January 20\, 22\, 27\, 29\, February 3\, 5\, 10\, and 12\, 2025\, noon to 1 p.m. \nFee: $70.00 + H.S.T. This event will take place on Zoom. The list of topics with the presentation date is listed below. If you miss any of the programs\, each one is recorded and the recording will be sent to you the next day. The recordings will be available for one month after the last program.
URL:https://guides.uoguelph.ca/event/virtual-cottage-birds-series/2025-01-29/
LOCATION:Arboretum Centre\, 250 Arboretum Rd\, Guelph\, N1G 2W1\, Canada
CATEGORIES:Intranet Events
GEO:43.5399138;-80.2167942
X-APPLE-STRUCTURED-LOCATION;VALUE=URI;X-ADDRESS=Arboretum Centre 250 Arboretum Rd Guelph N1G 2W1 Canada;X-APPLE-RADIUS=500;X-TITLE=250 Arboretum Rd:geo:-80.2167942,43.5399138
END:VEVENT
BEGIN:VEVENT
DTSTART;TZID=America/Toronto:20250127T120000
DTEND;TZID=America/Toronto:20250127T130000
DTSTAMP:20260424T033609
CREATED:20241025T125625Z
LAST-MODIFIED:20241025T125625Z
UID:141800-1737979200-1737982800@guides.uoguelph.ca
SUMMARY:Virtual Cottage Birds Series
DESCRIPTION:While sitting on the dock\, have you ever asked “Did that loon just attack that duck?” or “How can that Pileated Woodpecker peck such big holes without hurting its brain?” or “Which hawk is that flying overhead?” The answers to these and many other bird-related questions will be covered in this series of eight one-hour sessions on the birds you notice while visiting a cottage\, hiking in a northern park or tenting at your favourite campsite. We will cover identification clues\, behavior\, nesting info\, habitat\, foraging techniques and more. Cottage projects and activities that help birds will also be a part of each session as well as a 10-15 minute discussion period for bird-related questions. All eight programs cost of $70 (plus tax) – that’s less than $10 per program! \nMondays and Wednesdays\, January 20\, 22\, 27\, 29\, February 3\, 5\, 10\, and 12\, 2025\, noon to 1 p.m. \nFee: $70.00 + H.S.T. This event will take place on Zoom. The list of topics with the presentation date is listed below. If you miss any of the programs\, each one is recorded and the recording will be sent to you the next day. The recordings will be available for one month after the last program.
URL:https://guides.uoguelph.ca/event/virtual-cottage-birds-series/2025-01-27/
LOCATION:Arboretum Centre\, 250 Arboretum Rd\, Guelph\, N1G 2W1\, Canada
CATEGORIES:Intranet Events
GEO:43.5399138;-80.2167942
X-APPLE-STRUCTURED-LOCATION;VALUE=URI;X-ADDRESS=Arboretum Centre 250 Arboretum Rd Guelph N1G 2W1 Canada;X-APPLE-RADIUS=500;X-TITLE=250 Arboretum Rd:geo:-80.2167942,43.5399138
END:VEVENT
BEGIN:VEVENT
DTSTART;TZID=America/Toronto:20250122T120000
DTEND;TZID=America/Toronto:20250122T130000
DTSTAMP:20260424T033609
CREATED:20241025T125625Z
LAST-MODIFIED:20241025T125625Z
UID:141798-1737547200-1737550800@guides.uoguelph.ca
SUMMARY:Virtual Cottage Birds Series
DESCRIPTION:While sitting on the dock\, have you ever asked “Did that loon just attack that duck?” or “How can that Pileated Woodpecker peck such big holes without hurting its brain?” or “Which hawk is that flying overhead?” The answers to these and many other bird-related questions will be covered in this series of eight one-hour sessions on the birds you notice while visiting a cottage\, hiking in a northern park or tenting at your favourite campsite. We will cover identification clues\, behavior\, nesting info\, habitat\, foraging techniques and more. Cottage projects and activities that help birds will also be a part of each session as well as a 10-15 minute discussion period for bird-related questions. All eight programs cost of $70 (plus tax) – that’s less than $10 per program! \nMondays and Wednesdays\, January 20\, 22\, 27\, 29\, February 3\, 5\, 10\, and 12\, 2025\, noon to 1 p.m. \nFee: $70.00 + H.S.T. This event will take place on Zoom. The list of topics with the presentation date is listed below. If you miss any of the programs\, each one is recorded and the recording will be sent to you the next day. The recordings will be available for one month after the last program.
URL:https://guides.uoguelph.ca/event/virtual-cottage-birds-series/2025-01-22/
LOCATION:Arboretum Centre\, 250 Arboretum Rd\, Guelph\, N1G 2W1\, Canada
CATEGORIES:Intranet Events
GEO:43.5399138;-80.2167942
X-APPLE-STRUCTURED-LOCATION;VALUE=URI;X-ADDRESS=Arboretum Centre 250 Arboretum Rd Guelph N1G 2W1 Canada;X-APPLE-RADIUS=500;X-TITLE=250 Arboretum Rd:geo:-80.2167942,43.5399138
END:VEVENT
BEGIN:VEVENT
DTSTART;TZID=America/Toronto:20250120T120000
DTEND;TZID=America/Toronto:20250120T130000
DTSTAMP:20260424T033609
CREATED:20241025T125625Z
LAST-MODIFIED:20241025T125625Z
UID:141316-1737374400-1737378000@guides.uoguelph.ca
SUMMARY:Virtual Cottage Birds Series
DESCRIPTION:While sitting on the dock\, have you ever asked “Did that loon just attack that duck?” or “How can that Pileated Woodpecker peck such big holes without hurting its brain?” or “Which hawk is that flying overhead?” The answers to these and many other bird-related questions will be covered in this series of eight one-hour sessions on the birds you notice while visiting a cottage\, hiking in a northern park or tenting at your favourite campsite. We will cover identification clues\, behavior\, nesting info\, habitat\, foraging techniques and more. Cottage projects and activities that help birds will also be a part of each session as well as a 10-15 minute discussion period for bird-related questions. All eight programs cost of $70 (plus tax) – that’s less than $10 per program! \nMondays and Wednesdays\, January 20\, 22\, 27\, 29\, February 3\, 5\, 10\, and 12\, 2025\, noon to 1 p.m. \nFee: $70.00 + H.S.T. This event will take place on Zoom. The list of topics with the presentation date is listed below. If you miss any of the programs\, each one is recorded and the recording will be sent to you the next day. The recordings will be available for one month after the last program.
URL:https://guides.uoguelph.ca/event/virtual-cottage-birds-series/2025-01-20/
LOCATION:Arboretum Centre\, 250 Arboretum Rd\, Guelph\, N1G 2W1\, Canada
CATEGORIES:Intranet Events
GEO:43.5399138;-80.2167942
X-APPLE-STRUCTURED-LOCATION;VALUE=URI;X-ADDRESS=Arboretum Centre 250 Arboretum Rd Guelph N1G 2W1 Canada;X-APPLE-RADIUS=500;X-TITLE=250 Arboretum Rd:geo:-80.2167942,43.5399138
END:VEVENT
END:VCALENDAR