BEGIN:VCALENDAR
VERSION:2.0
PRODID:-//U of G News - ECPv6.15.11//NONSGML v1.0//EN
CALSCALE:GREGORIAN
METHOD:PUBLISH
X-WR-CALNAME:U of G News
X-ORIGINAL-URL:https://guides.uoguelph.ca
X-WR-CALDESC:Events for U of G News
REFRESH-INTERVAL;VALUE=DURATION:PT1H
X-Robots-Tag:noindex
X-PUBLISHED-TTL:PT1H
BEGIN:VTIMEZONE
TZID:America/Toronto
BEGIN:DAYLIGHT
TZOFFSETFROM:-0500
TZOFFSETTO:-0400
TZNAME:EDT
DTSTART:20200308T070000
END:DAYLIGHT
BEGIN:STANDARD
TZOFFSETFROM:-0400
TZOFFSETTO:-0500
TZNAME:EST
DTSTART:20201101T060000
END:STANDARD
BEGIN:DAYLIGHT
TZOFFSETFROM:-0500
TZOFFSETTO:-0400
TZNAME:EDT
DTSTART:20210314T070000
END:DAYLIGHT
BEGIN:STANDARD
TZOFFSETFROM:-0400
TZOFFSETTO:-0500
TZNAME:EST
DTSTART:20211107T060000
END:STANDARD
BEGIN:DAYLIGHT
TZOFFSETFROM:-0500
TZOFFSETTO:-0400
TZNAME:EDT
DTSTART:20220313T070000
END:DAYLIGHT
BEGIN:STANDARD
TZOFFSETFROM:-0400
TZOFFSETTO:-0500
TZNAME:EST
DTSTART:20221106T060000
END:STANDARD
END:VTIMEZONE
BEGIN:VEVENT
DTSTART;TZID=America/Toronto:20211117T100000
DTEND;TZID=America/Toronto:20211117T170000
DTSTAMP:20260424T100743
CREATED:20211115T185342Z
LAST-MODIFIED:20211115T185342Z
UID:71367-1637143200-1637168400@guides.uoguelph.ca
SUMMARY:Fair November
DESCRIPTION:This year\, U of G students\, staff and faculty can shop the Fair November Craft Show in-person in the UC Courtyard. External community members are welcome to shop online. \nCheck out new artisans each week! \nNOVEMBER 17 – 18 \n\nWicked Bee Candles – Specializing in handcrafted pure 100% premium beeswax candles\, which will add beauty and ambience to any home.\nGnomes by Mari – Unique and whimsical handmade Gnomes. Each adorable Gnome is one of a kind and perfect for any setting.\nLisa Skog Ceramics – Exquisite handmade ceramic ornaments\, jewellery\, functional wares and art pieces. Each piece is truly a work of art.\n\nNOVEMBER 17 ONLY \n\nWhite Lotus Design Jewellery – Contemporary designed and handmade necklaces\, earrings and cuff bracelets.\n\nNOVEMBER 18 ONLY \n\nEsther Gould’s Gourmet Desserts – Truly incredible homemade taste sensations\, from cookies and biscotti to scrumptious cheesecake in a jar and dessert sauces.\n\nVisit the Fair November website for weekly updates and to shop 60+ Artisans. \nRemember: You must be fully vaccinated to access U of G campuses and University-managed facilities.
URL:https://guides.uoguelph.ca/event/fair-november-2/2021-11-17/
LOCATION:Ontario\, Canada
CATEGORIES:Intranet Events
END:VEVENT
END:VCALENDAR